BEGIN:VCALENDAR
VERSION:2.0
PRODID:-//eventon.com NONSGML v1.0//EN
CALSCALE:GREGORIAN
METHOD:PUBLISH
BEGIN:VEVENT
UID:69ea11daacd68
DTSTAMP:20260423T123434Z
DTSTART:20260718T190000Z
DTEND:20260718T215900Z
LOCATION:Herr Nilsen C J Hambros plass 5
SUMMARY:Peter Zak Quartet
DESCRIPTION:Vi får igjen sommerlig besøk av den ypperlige New York-basert
 e pianisten Peter Zak. Denne gangen skal han også i studio og spille inn n
 y plate med sin gamle venn Jacob Young og hans trio. Besetningen er denne g
 angen: Peter Zak &#8211; piano Jacob Young &#8211; gitar Trygve Fiske &#821
 1; bass[..]\nhttps://www.oslojazzforum.no/events/peter-zak-quartet/
URL:https://www.oslojazzforum.no/events/peter-zak-quartet/
END:VEVENT
END:VCALENDAR