BEGIN:VCALENDAR
VERSION:2.0
PRODID:-//eventon.com NONSGML v1.0//EN
CALSCALE:GREGORIAN
METHOD:PUBLISH
BEGIN:VEVENT
UID:69ea12833b705
DTSTAMP:20260423T123723Z
DTSTART:20260704T190000Z
DTEND:20260704T215900Z
LOCATION:Herr Nilsen C J Hambros plass 5
SUMMARY:Kåre Garnes Trio
DESCRIPTION:Trioen spiller et utsøkt utvalg musikk fra den afro-amerikansk
 e jazztradisjonen! Kåre Garnes &#8211; bass Jørn Øien &#8211; piano Magn
 us Sefaniassen Eide &#8211; trommer &nbsp;\nhttps://www.oslojazzforum.no/ev
 ents/kare-garnes-trio-5/
URL:https://www.oslojazzforum.no/events/kare-garnes-trio-5/
END:VEVENT
END:VCALENDAR