BEGIN:VCALENDAR
VERSION:2.0
PRODID:-//eventon.com NONSGML v1.0//EN
CALSCALE:GREGORIAN
METHOD:PUBLISH
BEGIN:VEVENT
UID:69ea1366f336e
DTSTAMP:20260423T124110Z
DTSTART:20260627T140000Z
DTEND:20260627T215900Z
LOCATION:Herr Nilsen C J Hambros plass 5
SUMMARY:Øyvind Mathisen trio + Rob Waring
DESCRIPTION:Med dyp forankring i jazztradisjonen og en sterk sans for musik
 alsk lekenhet presenterer trompetist Øyvind Mathisen svingende og melodisk
  jazz i et åpent\,  kompromissløst akustisk format. I Øyvind Mathisen tr
 io settes trompetens klang og uttrykk tydeligere i sentrum enn noen gang! T
 rioen spiller svingende og melodisk jazz basert på komposisjoner[..]\nhttp
 s://www.oslojazzforum.no/events/oyvind-mathisen-trio-rob-waring/
URL:https://www.oslojazzforum.no/events/oyvind-mathisen-trio-rob-waring/
END:VEVENT
END:VCALENDAR