BEGIN:VCALENDAR
VERSION:2.0
PRODID:-//eventon.com NONSGML v1.0//EN
CALSCALE:GREGORIAN
METHOD:PUBLISH
BEGIN:VEVENT
UID:69ea11f2b068e
DTSTAMP:20260423T123458Z
DTSTART:20260520T180000Z
DTEND:20260520T215900Z
LOCATION:Herr Nilsen C J Hambros plass 5
SUMMARY:Inge Stangvik kvintett
DESCRIPTION:Jazzstandards og improvisasjon over kjente standardlåter med b
 l.a. improvisert joik. Inge Stangvik &#8211; vokal Anders Aarum &#8211; pia
 no Jens Fossum &#8211; bass Elias Tafjord &#8211; trommer Håvard Fossum &#
 8211; saksofon &nbsp;\nhttps://www.oslojazzforum.no/events/inge-stangvik-kv
 intett/
URL:https://www.oslojazzforum.no/events/inge-stangvik-kvintett/
END:VEVENT
END:VCALENDAR