BEGIN:VCALENDAR
VERSION:2.0
PRODID:-//eventon.com NONSGML v1.0//EN
CALSCALE:GREGORIAN
METHOD:PUBLISH
BEGIN:VEVENT
UID:69ea128667b0b
DTSTAMP:20260423T123726Z
DTSTART:20260425T140000Z
DTEND:20260425T215900Z
LOCATION:Herr Nilsen C J Hambros plass 5
SUMMARY:Håvard Fossum med Bodil Niska trio
DESCRIPTION:Bodil Niska må dessverre melde forfall og Håvard Fossum ersta
 tter henne på konserten. Håvard Fossum &#8211; tenorsaksofon Magne Arnese
 n &#8211; piano Stig Hvalryg &#8211; bass Marcus Lewin &#8211; trommer Side
 n Bodil selv har måttet melde forfall kan de som ønsker be om refusjon av
  forhåndskjøpt billett. Bandet vil spille hardtswingende[..]\nhttps://www
 .oslojazzforum.no/events/havard-fossum-med-bodil-niska-trio/
URL:https://www.oslojazzforum.no/events/havard-fossum-med-bodil-niska-trio/
END:VEVENT
END:VCALENDAR