BEGIN:VCALENDAR
VERSION:2.0
PRODID:-//eventon.com NONSGML v1.0//EN
CALSCALE:GREGORIAN
METHOD:PUBLISH
BEGIN:VEVENT
UID:69e73ebcaf2bb
DTSTAMP:20260421T090916Z
DTSTART:19691231T230000Z
DTEND:19691231T230000Z
LOCATION:Herr Nilsen C J Hambros plass 5
SUMMARY:2 X 3! Jacob Young trio & Kjekstad/Powell/Torres
DESCRIPTION:Jacob Young trio &#8211; en moderne jazzgitartrio Jacob Young e
 r en internasjonalt anerkjent norsk jazzgitarist og komponist\,  sammen med
  de dyktige musikerne Mats Eilertsen og Veslemøy Narvesen spiller de et ut
 valg av Youngs komposisjoner fra hans rikholdige katalog og noen overraskel
 ser fra standardrepertoaret. Jacob Young\,  født i 1970\,  har gitt[..]\nh
 ttps://www.oslojazzforum.no/events/2-x-3-jacob-young-trio-kjekstad-powell-t
 orres/
URL:https://www.oslojazzforum.no/events/2-x-3-jacob-young-trio-kjekstad-powell-torres/
END:VEVENT
END:VCALENDAR