BEGIN:VCALENDAR
VERSION:2.0
PRODID:-//eventon.com NONSGML v1.0//EN
CALSCALE:GREGORIAN
METHOD:PUBLISH
BEGIN:VEVENT
UID:69e5f4005326b
DTSTAMP:20260420T093808Z
DTSTART:19691231T230000Z
DTEND:19691231T230000Z
LOCATION:Herr Nilsen C J Hambros plass 5
SUMMARY:BjÃ¸rn Vidar Solli kvartett feat. Will Vinson
DESCRIPTION:BjÃ¸rn Vidar Solli samler gamle venner til en konsert med nye o
 riginallÃ¥ter. Det blir et sjeldent gjensyn med stjernesaksofonisten Will V
 inson\,  som holder til i Australia og organist Steinar Nickelsen\,  som bo
 r i Kina og som Solli startet trioen SOLID! sammen med for 20 Ã¥r siden. PÃ
 ¥ trommer er Amund[..]\nhttps://www.oslojazzforum.no/events/bjorn-vidar-sol
 li-kvartett-feat-will-vinson/
URL:https://www.oslojazzforum.no/events/bjorn-vidar-solli-kvartett-feat-will-vinson/
END:VEVENT
END:VCALENDAR