BEGIN:VCALENDAR
VERSION:2.0
PRODID:-//eventon.com NONSGML v1.0//EN
CALSCALE:GREGORIAN
METHOD:PUBLISH
BEGIN:VEVENT
UID:69e60a51baed1
DTSTAMP:20260420T111321Z
DTSTART:19691231T230000Z
DTEND:19691231T230000Z
LOCATION:Herr Nilsen C J Hambros plass 5
SUMMARY:Tune Up
DESCRIPTION:Jazzkvintetten er klart inspirert av den amerikanske tradisjone
 n og har et repertoar som veksler mellom det lyriske og det hardtsvingende.
  &nbsp; Roy Nikolaisen &#8211; trompet og flygelhorn Erlend Vangen Kongtorp
  &#8211; saksofon Magne Arnesen &#8211; piano Stig Hvalryg &#8211; bass Eyv
 ind Olsen Wahlen &#8211; trommer &nbsp;\nhttps://www.oslojazzforum.no/event
 s/tune-up/
URL:https://www.oslojazzforum.no/events/tune-up/
END:VEVENT
END:VCALENDAR